BEGIN:VCALENDAR
VERSION:2.0
PRODID:-//Société mycologique et botanique du Périgord - ECPv6.15.20//NONSGML v1.0//EN
CALSCALE:GREGORIAN
METHOD:PUBLISH
X-ORIGINAL-URL:https://www.smbp24.fr
X-WR-CALDESC:Évènements pour Société mycologique et botanique du Périgord
REFRESH-INTERVAL;VALUE=DURATION:PT1H
X-Robots-Tag:noindex
X-PUBLISHED-TTL:PT1H
BEGIN:VTIMEZONE
TZID:Europe/Paris
BEGIN:DAYLIGHT
TZOFFSETFROM:+0100
TZOFFSETTO:+0200
TZNAME:CEST
DTSTART:20250330T010000
END:DAYLIGHT
BEGIN:STANDARD
TZOFFSETFROM:+0200
TZOFFSETTO:+0100
TZNAME:CET
DTSTART:20251026T010000
END:STANDARD
BEGIN:DAYLIGHT
TZOFFSETFROM:+0100
TZOFFSETTO:+0200
TZNAME:CEST
DTSTART:20260329T010000
END:DAYLIGHT
BEGIN:STANDARD
TZOFFSETFROM:+0200
TZOFFSETTO:+0100
TZNAME:CET
DTSTART:20261025T010000
END:STANDARD
BEGIN:DAYLIGHT
TZOFFSETFROM:+0100
TZOFFSETTO:+0200
TZNAME:CEST
DTSTART:20270328T010000
END:DAYLIGHT
BEGIN:STANDARD
TZOFFSETFROM:+0200
TZOFFSETTO:+0100
TZNAME:CET
DTSTART:20271031T010000
END:STANDARD
END:VTIMEZONE
BEGIN:VEVENT
DTSTART;TZID=Europe/Paris:20260426T093000
DTEND;TZID=Europe/Paris:20260426T120000
DTSTAMP:20260425T220850
CREATED:20260402T084939Z
LAST-MODIFIED:20260423T162512Z
UID:2584-1777195800-1777204800@www.smbp24.fr
SUMMARY:Dimanche 26 avril - Sortie mycologique à Tursac
DESCRIPTION:En partenariat avec Nature en Périgord\, printemps de la biodiversité.\nSortie cueillette de champignons\, rendez-vous à 9h30 à l’auberge\, 407 Chemin de Layotte. \nDéjeuner possible à l’auberge au prix de 35€ par personne tout compris.\nRéservation obligatoire auprès de Monique SEGALA (06 13 72 46 60) avant le lundi 20 avril\, attention places limitées. \nNe pas aller dans la commune de Tursac.\nEn arrivant des Eyzies sur la D47 faire quelques Km prendre la route à droite\, 500M avant le village de Manaurie.
URL:https://www.smbp24.fr/liste-activites/dimanche-26-avril-auberge-de-layotte-a-tursac/
LOCATION:Tursac\, 407 Chemin de Layotte\, Tursac
CATEGORIES:Sortie Mycologique
END:VEVENT
BEGIN:VEVENT
DTSTART;TZID=Europe/Paris:20260426T093000
DTEND;TZID=Europe/Paris:20260426T170000
DTSTAMP:20260425T220850
CREATED:20260422T143810Z
LAST-MODIFIED:20260423T160652Z
UID:2686-1777195800-1777222800@www.smbp24.fr
SUMMARY:Dimanche 26 avril - Sortie Orchidées à Bassillac
DESCRIPTION:Dimanche 26 avril à BASSILLAC (à l’est de Périgueux)\nSortie orchidées sauvages\, avec la municipalité de Bassillac-et-Auberoche.\nRendez-vous place de la mairie de Bassillac : 750 av. François Mitterrand\, Bassillac.\nDurée : 2 h 30.\nInscriptions Robert DRUILLOLE (06 82 46 32 93)
URL:https://www.smbp24.fr/liste-activites/dimanche-26-avril-sortie-orchidees-a-bassillac/
LOCATION:Bassillac\, 750 avenue François Mitterrand\, Bassillac
CATEGORIES:Sortie Botanique
END:VEVENT
BEGIN:VEVENT
DTSTART;TZID=Europe/Paris:20260430T091500
DTEND;TZID=Europe/Paris:20260430T235900
DTSTAMP:20260425T220850
CREATED:20260422T095724Z
LAST-MODIFIED:20260422T134426Z
UID:2660-1777540500-1777593540@www.smbp24.fr
SUMMARY:Jeudi 30 avril - Journée botanique et mycologique à Perpezac-le-Blanc et au Puy d'Yssandon
DESCRIPTION:Journée botanique et mycologique organisée par la Société Mycologique du Limousin.\nPossibilité de participer aux deux excursions de la journée (une le matin à Perpezac-le-Blanc et une l’après-midi au Puy d’Yssandon) ou à une seulement\, selon vos disponibilités.\nRDV à 9h15 devant l’église de Perpezac-le-Blanc. \nTous les détails sont à retrouver dans le lien suivant :\nhttps://echosciences.nouvelle-aquitaine.science/evenements/journee-champignons-a-perpezac-le-blanc-matin-et-au-puy-d-yssandon-apres-midi-19
URL:https://www.smbp24.fr/liste-activites/jeudi-30-avril-journee-botanique-et-mycologique-a-perpezac-le-blanc-et-au-puy-dyssandon/
LOCATION:Perpezac-le-Blanc\, Le Bourg\,\, Perpezac-le-Blanc\, 19310\, France
CATEGORIES:Sortie Botanique,Sortie Mycologique
END:VEVENT
BEGIN:VEVENT
DTSTART;TZID=Europe/Paris:20260501T090000
DTEND;TZID=Europe/Paris:20260501T235900
DTSTAMP:20260425T220850
CREATED:20260417T093538Z
LAST-MODIFIED:20260423T162602Z
UID:2602-1777626000-1777679940@www.smbp24.fr
SUMMARY:Vendredi 1er mai - LPO Sortie pluridisciplinaire à Cénac
DESCRIPTION:Informations disponibles sur le site de la LPO : Sortie pluridisciplinaire. \nInscription obligatoire auprès de Monsieur Rémi TEYTAUD au (06 75 18 02 51) avant le 24 avril.\nLieu et heure de rendez-vous seront donnés à l’inscription.
URL:https://www.smbp24.fr/liste-activites/vendredi-1er-mai-lpo-sortie-pluridisciplinaire-a-cenac/
LOCATION:Cénac-et-Saint-Julien\, Cénac-et-Saint-Julien
CATEGORIES:Sortie Pluridisciplinaire
END:VEVENT
BEGIN:VEVENT
DTSTART;TZID=Europe/Paris:20260509T093000
DTEND;TZID=Europe/Paris:20260509T120000
DTSTAMP:20260425T220850
CREATED:20260417T194426Z
LAST-MODIFIED:20260423T162611Z
UID:2634-1778319000-1778328000@www.smbp24.fr
SUMMARY:Samedi 9 mai - Sortie orchidées à Razac sur l'Isle
DESCRIPTION:Dans la réserve naturelle du domaine de Peyssac.\nOrganisé par l’amicale laïque de Grignols.\nResponsable et inscription à Michel FAVARD (06 83 65 09 32)\nRendez-vous à la mairie de Grignols\nAttention nombre limité.
URL:https://www.smbp24.fr/liste-activites/samedi-9-mai-2026-sortie-orchidees-a-razac-sur-lisle/
LOCATION:Grignols\, Grignols\, Dordogne
CATEGORIES:Sortie Botanique
END:VEVENT
BEGIN:VEVENT
DTSTART;TZID=Europe/Paris:20260513T140000
DTEND;TZID=Europe/Paris:20260513T170000
DTSTAMP:20260425T220850
CREATED:20260422T145054Z
LAST-MODIFIED:20260423T161132Z
UID:2688-1778680800-1778691600@www.smbp24.fr
SUMMARY:Mercredi 13 mai - Sortie pluridisciplinaire à Trélissac
DESCRIPTION:Mercredi 13 mai au CRAPA à TRÉLISSAC (à l’est de Périgueux).\nSortie multidisciplinaire sur le thème de la « Nature en ville »\, en collaboration avec l’association Nature en Périgord et le Grand Périgueux. \nRendez-vous à 14 h sur le parking à l’entrée du parcours de santé du Crapa\, rue Anatole France\, juste avant l’hôtel IBIS Styles.\nResponsables : Guillaume EYSSARTIER et Nathalie VERGER.
URL:https://www.smbp24.fr/liste-activites/mercredi-13-mai-sortie-pluridisciplinaire-a-trelissac/
LOCATION:Trélissac\, Trélissac
CATEGORIES:Sortie Pluridisciplinaire
END:VEVENT
BEGIN:VEVENT
DTSTART;TZID=Europe/Paris:20260523T140000
DTEND;TZID=Europe/Paris:20260523T170000
DTSTAMP:20260425T220850
CREATED:20260422T145601Z
LAST-MODIFIED:20260423T161407Z
UID:2691-1779544800-1779555600@www.smbp24.fr
SUMMARY:Samedi 23 mai - Sortie Plantes des falaises calcaires à Marquay
DESCRIPTION:Samedi 23 mai à MARQUAY (entre Le Bugue et Sarlat)\nThématique : Les plantes des falaises calcaires de la Beune.\nRendez-vous à 14 h.\nStationnement terre-plein sur la D6 (coordonnées GPS : 44°57’0.26’’-1°6’58.4’’) : à l’intersection D48-D6 prendre D6\, 100 m à gauche (en venant des Eyzies).\nS’inscrire auprès du responsable\, Robert DRUILLOLE (06 82 46 32 93 ou robert.druillole@orange.fr)
URL:https://www.smbp24.fr/liste-activites/samedi-23-mai-sortie-plantes-des-falaises-calcaires-a-marquay/
LOCATION:Marquay\, 44.952085\, 1.115303
CATEGORIES:Sortie Botanique
ORGANIZER;CN="Robert Druillole":MAILTO:robert.druillole@orange.fr
END:VEVENT
BEGIN:VEVENT
DTSTART;TZID=Europe/Paris:20260531T093000
DTEND;TZID=Europe/Paris:20260531T123000
DTSTAMP:20260425T220850
CREATED:20260422T150233Z
LAST-MODIFIED:20260424T124749Z
UID:2694-1780219800-1780230600@www.smbp24.fr
SUMMARY:Dimanche 31 mai 2026 - Sortie Botanique à Saint-Crépin-de-Richemont
DESCRIPTION:Dimanche 31 mai à SAINT-CRÉPIN-DE-RICHEMONT (entre Saint-Pancrace et Saint-Félix-de-Bourdeilles)\nSortie botanique\, la matinée (9 h 30-12 h 30) sur le sentier de découverte des meulières (environ 3km).\nRendez-vous sur le parking au départ du « Sentier des meulières »\, route des Meulières. \nS’inscrire auprès du responsable Vincent VÉRITÉ  au 06 41 88 31 11 ou sur vincentverite25@gmail.com
URL:https://www.smbp24.fr/liste-activites/dimanche-31-mai-sortie-botanique-a-saint-crepin-de-richemont/
LOCATION:Saint-Crépin-de-Richemont\, Saint-Crépin-de-Richemont\, France
CATEGORIES:Sortie Botanique
END:VEVENT
BEGIN:VEVENT
DTSTART;TZID=Europe/Paris:20260607T093000
DTEND;TZID=Europe/Paris:20260607T123000
DTSTAMP:20260425T220850
CREATED:20260422T150519Z
LAST-MODIFIED:20260424T124909Z
UID:2697-1780824600-1780835400@www.smbp24.fr
SUMMARY:Dimanche 7 juin - Sortie Botanique à Saint-Pardoux-et-Vielvic
DESCRIPTION:Dimanche 7 juin à SAINT-PARDOUX-ET-VIELVIC (entre Belvès et Montpazier).\nSortie botanique\, la matinée (de 9 h 30 à 12 h 30) sur un sentier de découvertes d’environ 3\,5km.\nRendez-vous sur le parking du dolmen de Bonarme\, route de Bonarme (D52).\nPossibilité de pique-niquer et de poursuivre la sortie l’après-midi. \nS’inscrire auprès du responsable Vincent VÉRITÉ  au 06 41 88 31 11 ou sur vincentverite25@gmail.com
URL:https://www.smbp24.fr/liste-activites/dimanche-7-juin-sortie-botanique-a-saint-pardoux-et-vielvic/
LOCATION:Saint-Pardoux-et-Vielvic\, Saint-Pardoux-et-Vielvic
CATEGORIES:Sortie Botanique
END:VEVENT
BEGIN:VEVENT
DTSTART;TZID=Europe/Paris:20260624T093000
DTEND;TZID=Europe/Paris:20260624T170000
DTSTAMP:20260425T220850
CREATED:20260422T151803Z
LAST-MODIFIED:20260423T161116Z
UID:2702-1782293400-1782320400@www.smbp24.fr
SUMMARY:Mercredi 24 juin - Sortie Mycologique à Montazeau
DESCRIPTION:Mercredi 24 juin à MONTAZEAU ((entre Saint-Méard-de-Gurçon et Vélines) au sud-ouest du département).\nRendez-vous à la salle des fêtes.\nPique-nique et identification sur le lieu de la cueillette.\nResponsables : monsieur REGNIER (06 82 34 04 69) et Monique SEGALA (06 13 72 46 60).\nIdentificateur : Daniel LACOMBE (06 83 37 26 30).
URL:https://www.smbp24.fr/liste-activites/mercredi-24-juin-sortie-mycologique-a-montazeau/
LOCATION:Montazeau\, Montazeau
CATEGORIES:Sortie Mycologique
END:VEVENT
BEGIN:VEVENT
DTSTART;TZID=Europe/Paris:20260628T093000
DTEND;TZID=Europe/Paris:20260628T123000
DTSTAMP:20260425T220850
CREATED:20260422T151219Z
LAST-MODIFIED:20260423T162420Z
UID:2699-1782639000-1782649800@www.smbp24.fr
SUMMARY:Dimanche 28 juin - Sortie végétations riveraines au Buisson-de-Cadouin
DESCRIPTION:Dimanche 28 juin 2026 au BUISSON-DE-CADOUIN\nSortie végétations riveraines\, de 9 h 30 à 12 h 30.\nInitiation à l’approche phytosociologique\, identification des différentes communautés végétales et appréhension des processus qui pilotent leur agencement et leur évolution. \nRendez-vous plage du Buisson de Cadouin\, parking « champ »\, par le chemin de la plage.\nPrévoir des chaussures pour marcher dans l’eau. \nS’inscrire auprès de la responsable\, Catherine CALME.\nLa sortie sera annulée en cas de mauvais temps.
URL:https://www.smbp24.fr/liste-activites/dimanche-28-juin-sortie-vegetations-riveraines-au-buisson-de-cadouin/
LOCATION:Buisson-de-Cadouin\, Chemin de la plage\, Buisson-de-Cadouin\, France
CATEGORIES:Sortie Botanique
END:VEVENT
BEGIN:VEVENT
DTSTART;TZID=Europe/Paris:20261107T100000
DTEND;TZID=Europe/Paris:20261108T170000
DTSTAMP:20260425T220850
CREATED:20260422T153035Z
LAST-MODIFIED:20260423T161407Z
UID:2705-1794045600-1794157200@www.smbp24.fr
SUMMARY:Week-end du 7-8 novembre 2026 - Exposition champignons à Chancelade
DESCRIPTION:Samedi 7 et dimanche 8 novembre à CHANCELADE (près de Périgueux).\nLa mairie de Chancelade organise une grande fête du champignon en partenariat avec la SMBP avec différents stands et conférences.\nL’exposition se tiendra à l’Espace culturel\, 14 rue des Libertés (à côté de la poste)\, le samedi de 10 h à 18 h et le dimanche de 10 h à 17 h.\nExposition approvisionnée par les champignons cueillis lors de la sortie du samedi 7 novembre à Paunat ainsi que par les cueillettes des adhérents et du public. \nResponsable : Guillaume EYSSARTIER (06 07 35 16 13).
URL:https://www.smbp24.fr/liste-activites/week-end-du-7-8-novembre-2026-exposition-champignons-a-chancelade/
LOCATION:Chancelade\, 14 rue des Libertés\, Chancelade\, France
CATEGORIES:Exposition
END:VEVENT
END:VCALENDAR